BEGIN:VCALENDAR
VERSION:2.0
PRODID:-//Club de Natation de la Chaux-de-Fonds - ECPv6.14.0//NONSGML v1.0//EN
CALSCALE:GREGORIAN
METHOD:PUBLISH
X-WR-CALNAME:Club de Natation de la Chaux-de-Fonds
X-ORIGINAL-URL:https://cncf3.eliotbenninger.ch
X-WR-CALDESC:Évènements pour Club de Natation de la Chaux-de-Fonds
REFRESH-INTERVAL;VALUE=DURATION:PT1H
X-Robots-Tag:noindex
X-PUBLISHED-TTL:PT1H
BEGIN:VTIMEZONE
TZID:Europe/Zurich
BEGIN:DAYLIGHT
TZOFFSETFROM:+0100
TZOFFSETTO:+0200
TZNAME:CEST
DTSTART:20250330T010000
END:DAYLIGHT
BEGIN:STANDARD
TZOFFSETFROM:+0200
TZOFFSETTO:+0100
TZNAME:CET
DTSTART:20251026T010000
END:STANDARD
END:VTIMEZONE
BEGIN:VEVENT
DTSTART;VALUE=DATE:20250630
DTEND;VALUE=DATE:20250701
DTSTAMP:20260421T010825
CREATED:20250630T165508Z
LAST-MODIFIED:20250630T165600Z
UID:692-1751241600-1751327999@cncf3.eliotbenninger.ch
SUMMARY:Championnats Suisse Espoirs
DESCRIPTION:
URL:https://cncf3.eliotbenninger.ch/event/championnats-suisse-espoirs/
LOCATION:Centre Sportif de Sursee
CATEGORIES:Compétition
END:VEVENT
END:VCALENDAR